BEGIN:VCALENDAR
VERSION:2.0
PRODID:-//wp-events-plugin.com//6.6.4.4//EN
TZID:Asia/Kolkata
X-WR-TIMEZONE:Asia/Kolkata
BEGIN:VEVENT
UID:9@techassistantforblind.com
DTSTART;TZID=Asia/Kolkata:20230528T110000
DTEND;TZID=Asia/Kolkata:20230528T160000
DTSTAMP:20230604T010552Z
URL:https://www.techassistantforblind.com/events/event-at-nab-satara/
SUMMARY:Event at NAB Satara.
DESCRIPTION:this event was held on 28 may\, 2023 from 11 a.m.\, to 4:00 p.m
 . in Satara\, Maharashtra. \n\nwhere we taught about the Android phones\, 
 some basic and advanced things related to Android. like: which phone we sh
 ould buy? which phone is better for us? how can we increase our phone perf
 ormance? how to increase the security of our phone? and many more things r
 elated to Android! \n\nfor that we are sharing some photos and videos belo
 w:\n\n\n\n\n\n\n\n\n\n\n\n\n\n\n\nइस सेमिनार का आ
 योजन National Association for the Blind  में किया 
 गया था\, जो की   Satara camp lions nab eye hospital\, 38
 3/k\, karanje\, opp. Karpe hospital\, Radhika Road\, पर है।\n\n
 जिसका पूरा पता\, कांटेक्ट नं
 बर तथा  गूगल मैप की लिंक सहित 
 नीचे दिया जा रहा है।\n\nNational Associati
 on For The Blind\,\n\n c/o.  Satara camp lions nab eye hospital\, 383/k\, 
 karanje\, opp. Karpe hospital\, Radhika Road\, Satara\n\n\n\nhttps://maps.
 app.goo.gl/6v6YFXcSzJmcCbg79  \n\nसंपर्क नंबर: \n\n930
 9270217022-2495370 \n\nधन्यवाद
LOCATION:https://maps.app.goo.gl/6v6YFXcSzJmcCbg79
END:VEVENT
BEGIN:VTIMEZONE
TZID:Asia/Kolkata
X-LIC-LOCATION:Asia/Kolkata
BEGIN:STANDARD
DTSTART:20220528T110000
TZOFFSETFROM:+0530
TZOFFSETTO:+0530
TZNAME:IST
END:STANDARD
END:VTIMEZONE
END:VCALENDAR