BEGIN:VCALENDAR
VERSION:2.0
PRODID:-//wp-events-plugin.com//6.6.4.4//EN
TZID:Asia/Kolkata
X-WR-TIMEZONE:Asia/Kolkata
BEGIN:VEVENT
UID:12@techassistantforblind.com
DTSTART;TZID=Asia/Kolkata:20240121T160000
DTEND;TZID=Asia/Kolkata:20240121T170000
DTSTAMP:20240330T141743Z
URL:https://www.techassistantforblind.com/events/our-first-webinar-for-gma
 il-standard-view-will-be-held-on-21-january2023/
SUMMARY:Our first webinar for GMail standard view held on 21 January\,2024
DESCRIPTION:as we bid farewell to the familiar Gmail basic HTML view which 
 is discontinued by Google in February\, we acknowledge the need to prepare
  for the future. The transition posed a challenge for many\, especially th
 ose relying on screen readers for accessibility.\n\nOn Sunday\, January 21
 \, 2024\, from 4:00 p.m. to 5:00 p.m.\, we hosted an informative session\,
  delving into the details of Gmail’s Standard View. This webinar aimed t
 o provide valuable insights\, with a particular focus on supporting indivi
 duals using screen readers such as NVDA or Jaws.\n\nWhat was covered in th
 e webinar:\n• Explored the hidden gems within Gmail’s Standard View.\n
 • Learned tricks and keyboard shortcuts to enhance your user experience.
 \n• Navigated efficiently using screen readers.\n\nWe appreciate everyon
 e who joined us for this session\, contributing to its success. Stay tuned
  for more engaging events in the future as we continue to explore and adap
 t to the evolving digital landscape.\nListen the webinar Below\n
LOCATION:https://www.techassistantforblind.com/webinar-registration/
END:VEVENT
BEGIN:VTIMEZONE
TZID:Asia/Kolkata
X-LIC-LOCATION:Asia/Kolkata
BEGIN:STANDARD
DTSTART:20230121T160000
TZOFFSETFROM:+0530
TZOFFSETTO:+0530
TZNAME:IST
END:STANDARD
END:VTIMEZONE
END:VCALENDAR