BEGIN:VCALENDAR
VERSION:2.0
PRODID:-//wp-events-plugin.com//6.6.4.4//EN
TZID:Asia/Kolkata
X-WR-TIMEZONE:Asia/Kolkata
BEGIN:VEVENT
UID:19@techassistantforblind.com
DTSTART;TZID=Asia/Kolkata:20240623T100000
DTEND;TZID=Asia/Kolkata:20240623T160000
DTSTAMP:20240620T093732Z
URL:https://www.techassistantforblind.com/events/tech-assistant-for-blind-
 event-to-be-held-in-nab-surat/
SUMMARY:Tech Assistant for Blind Event to be held in NAB surat
DESCRIPTION:Tech Assistant for Blind\, NAB Surat के सहयोग स
 े दिनांक 23 जून 2024\, रविवार को स
 ूरत के अंधजन शिक्षण मंडल में
  एक नए seminar का आयोजन कर रहा है। 
 यह seminar सुबह 10 बजे से शाम 4 बजे त
 क आयोजित किया जाएगा\, जिसमें 
 यह दिखाया जाएगा कि कैसे तकनी
 क का उपयोग नेत्रहीनों और दृष
 ्टिबाधित लोगों की मदद के लिए
  किया जा सकता है।\n\nइस कार्यक
 ्रम के दौरान\, हम एंड्रॉइड\, भ
 ुगतान\, क्रेडिट कार्ड\, ऑनलाइ
 न खाना ऑर्डर करना\, टैक्सी बु
 क करना और अन्य कई महत्वपूर्ण
  विषयों को कवर करेंगे।\nइस जा
 नकारी पूर्ण सेमिनार का भाग ब
 नने के लिए\n\n रजिस्टर करें\n\nप
 ता\n \nAndhjan shikshan mandal\, near Kala Mandir showroom\, gordor ro
 ad\, Surat\n\n गूगल मैप्स पर खोजें
LOCATION:https://maps.app.goo.gl/WcRvP8GSv2bWgSd9A
END:VEVENT
BEGIN:VTIMEZONE
TZID:Asia/Kolkata
X-LIC-LOCATION:Asia/Kolkata
BEGIN:STANDARD
DTSTART:20230624T100000
TZOFFSETFROM:+0530
TZOFFSETTO:+0530
TZNAME:IST
END:STANDARD
END:VTIMEZONE
END:VCALENDAR